BEGIN:VCALENDAR
VERSION:2.0
PRODID:-//Eventin//Event Calendar//EN
CALSCALE:GREGORIAN
METHOD:PUBLISH
BEGIN:VEVENT
UID:1a9af282866f0685bed09e114beb27b9@ikigi.ee
SUMMARY:KUU KOLMAS KOLMAPÄEV 19.10
DESCRIPTION:[vc_row][vc_column][vc_column_text]Kord kuus kolmapäeviti korr
 aldame Köitegaraažis mõnetunnise avatud töötoa\, kus kiikame põgusalt
 \, aga tõhusalt imelisse köitemaailma.\n\n\n\n\nÄMBLIKALBUMI TÖÖTUBA\n
 \nEsmakordselt kuulutame välja HALLOWEENI ERI! 🕷️\n\nKui päris aus o
 lla\, siis ämblikalbum on tegelikult oma nime saanud sarnasusest koibikuli
 sega. Koibikuline ise on teadupärast aga ebaämblik\, kuid see ei muuda se
 da õnneks grammigi vähem albumiks!\n\nAlbumid on tihtipeale lisaks fotode
  talletamiseks head mälestuste hoiuraamatuna või ka kunstiliseks enesevä
 ljenduseks. Ämblikalbumi konstruktsioon tekitab parajalt mahtu ja muudab s
 elle ideaalseks köiteks\, mida annab põnevustega täita ja täita ja ... 
 🕸️\n\n \n\nOktoobrikuu töötuba juhendab meie oma Rünno Kulver.\n\n
  \n\nEelnev kogemus töötubades osalemiseks pole vajalik ega ka takistuse
 ks.\n\n \n\n\nNB! Osta üheaegselt kõik sügis/talvehooaja töötoa pilet
 id (või lihtsalt korraga 4 piletit endale ja sõpradele)\, kasuta kassas k
 oodi KKK2022 ja saa 15% allahindlust!\n\nNovembrikuu töötoa leiad SIIT.\n
 \n \n\nHind sisaldab materjale\, töövahendite kasutamist\, küpsist ja t
 eed.\n\n\n[/vc_column_text][/vc_column][/vc_row][vc_row][vc_column][eltdf_a
 ccordion style="toggle"][eltdf_accordion_tab title_tag="h4" title="KUIDAS T
 ULLA?"][vc_column_text]ARS Kunstlinnaku hoovis on võimalik parkida nii aut
 ot kui jalgratast ja edukalt pääseb meie juurde ka ühistranspordiga.\n\n
 Bussipeatus: Kalev (5\, 14\, 18\, 20\, 32\, 36\, 57)\nTrammipeatus: Kalev (
 3\, 4)\nRongipeatus: Tondi[/vc_column_text][/eltdf_accordion_tab][/eltdf_ac
 cordion][/vc_column][/vc_row][vc_row][vc_column][eltdf_image_gallery type="
 masonry" enable_image_shadow="no" image_behavior="lightbox" number_of_colum
 ns="two" space_between_items="small" image_size="full" images="10072\,10074
 \,4747"][/vc_column][/vc_row]
LOCATION:Online
DTSTAMP:20260421T103733Z
DTSTART:20221019T143000Z
DTEND:20260421T170000Z
END:VEVENT
END:VCALENDAR
