BEGIN:VCALENDAR
VERSION:2.0
PRODID:-//Eventin//Event Calendar//EN
CALSCALE:GREGORIAN
METHOD:PUBLISH
BEGIN:VEVENT
UID:0a479358e507f8b125ff88056f5c863e@ikigi.ee
SUMMARY:KUU KOLMAS KOLMAPÄEV 19.04
DESCRIPTION:[vc_row][vc_column][vc_column_text]Märtsist maikuuni korraldam
 e kord kuus kolmapäeviti mõnetunnise avatud töötoa\, kus kiikame põgus
 alt\, aga tõhusalt imelisse köitemaailma.\n\n\n\n\nLÕÕTSKÖIDE\n\nLõõ
 tsköide on laias laastus rull- ja koodeksraamatu vahepealne. Unikaalsus pe
 itub selle lihtsas väljanägemises\, kuid valmistamise täpses käeoskuses
 .\n\nTöötoas valmistame lahenduse\, mis töötab albumi\, näidisteraamat
 u\, menüü\, … või maaväilise kommunikatsiooniõpikuna.\n\n\nHind sisa
 ldab materjale\, töövahendite kasutamist\, küpsist ja teed.\n\n\n[/vc_co
 lumn_text][/vc_column][/vc_row][vc_row][vc_column][eltdf_accordion style="t
 oggle"][eltdf_accordion_tab title_tag="h4" title="KUIDAS TULLA?"][vc_column
 _text]ARS Kunstlinnaku hoovis on võimalik parkida nii autot kui jalgratast
  ja edukalt pääseb meie juurde ka ühistranspordiga.\n\nBussipeatus: Kale
 v (5\, 14\, 18\, 20\, 32\, 36\, 57)\nTrammipeatus: Kalev (3\, 4)\nRongipeat
 us: Tondi[/vc_column_text][/eltdf_accordion_tab][/eltdf_accordion][/vc_colu
 mn][/vc_row][vc_row][vc_column][eltdf_image_gallery type="masonry" enable_i
 mage_shadow="no" image_behavior="lightbox" number_of_columns="two" space_be
 tween_items="small" image_size="full" images="9717\,8879\,8877\,8873\,8871"
 ][/vc_column][/vc_row]
LOCATION:Online
DTSTAMP:20260419T143520Z
DTSTART:20230419T143000Z
DTEND:20260419T170000Z
END:VEVENT
END:VCALENDAR
